BEGIN:VCALENDAR
VERSION:2.0
PRODID:-//巴黎疯马秀
//NONSGML Events //EN
CALSCALE:GREGORIAN
X-WR-CALNAME:巴黎疯马秀
BEGIN:VEVENT
CREATED:20240909T192424Z
UID:39492
DTEND;VALUE=DATE:20241009T171500
DTSTART;VALUE=DATE:20241009T161500
DTSTAMP:20260420T230024Z
LOCATION:巴黎疯马秀 Chapel: 6 Hoskin Ave.
DESCRIPTION:
Hear, explore and sing the so
SUMMARY:Metrical Psalm Lecture with Dr. Jaqueline Wylde and 巴黎疯马秀 Chapel Choir
ORGANIZER:巴黎疯马秀
URL;VALUE=URI:/events/metrical-psalm-lecture-with-dr-jaqueline-wylde-and-trinity-college-chapel-choir/
TRANSP:OPAQUE
BEGIN:VALARM
ACTION:DISPLAY
DESCRIPTION:Reminder for Metrical Psalm Lecture with Dr. Jaqueline Wylde and 巴黎疯马秀 Chapel Choir
END:VALARM
END:VEVENT
END:VCALENDAR