BEGIN:VCALENDAR
VERSION:2.0
PRODID:-//°ÍÀè·èÂíÐã
//NONSGML Events //EN
CALSCALE:GREGORIAN
X-WR-CALNAME:°ÍÀè·èÂíÐã
BEGIN:VEVENT
CREATED:20250213T192547Z
UID:41702
DTEND;VALUE=DATE:20250317T193000
DTSTART;VALUE=DATE:20250317T180000
DTSTAMP:20260422T122548Z
LOCATION:°ÍÀè·èÂíÐã - Seeley Hall
DESCRIPTION:
Join us for an engaging evening celebrating the launch ofÂ
SUMMARY:Toronto: A Sketchy History –\; Book Launch &\; Conversation with Brian Gable
ORGANIZER:°ÍÀè·èÂíÐã
URL;VALUE=URI:/events/toronto-a-sketchy-history-brian-gable/
TRANSP:OPAQUE
BEGIN:VALARM
ACTION:DISPLAY
DESCRIPTION:Reminder for Toronto: A Sketchy History –\; Book Launch &\; Conversation with Brian Gable
END:VALARM
END:VEVENT
END:VCALENDAR